BEGIN:VCALENDAR
VERSION:2.0
PRODID:-//pretix//Pretix_/e/OS_Flash_party//
BEGIN:VTIMEZONE
TZID:Europe/Paris
BEGIN:STANDARD
DTSTART:20001029T040000
RRULE:FREQ=YEARLY;BYDAY=-1SU;BYMONTH=10
TZNAME:CET
TZOFFSETFROM:+0200
TZOFFSETTO:+0100
END:STANDARD
BEGIN:DAYLIGHT
DTSTART:20000326T030000
RRULE:FREQ=YEARLY;BYDAY=-1SU;BYMONTH=3
TZNAME:CEST
TZOFFSETFROM:+0100
TZOFFSETTO:+0200
END:DAYLIGHT
END:VTIMEZONE
BEGIN:VEVENT
UID:pretix-LyonCafeViePrivee-CDL2025-62@pretix.mossroy.fr
DTSTART;TZID=Europe/Paris:20251115T100000
DTEND;TZID=Europe/Paris:20251115T114500
DESCRIPTION:Tickets : https://pretix.mossroy.fr/LyonCafeViePrivee/CDL2025/
 62/\nOrganisateur : Lyon café vie privée
DTSTAMP:20260422T193335Z
LOCATION:Campus de la Doua (INSA Lyon)\, bâtiment Louis Néel du départem
 ent FIMI\, Entrée: 20 avenue Albert Einstein (côté Tram)\, 69100 VILLEU
 RBANNE\, https://www.campus-du-libre.org/
SUMMARY:Flash-party /e/OS Campus du Libre 2025
END:VEVENT
END:VCALENDAR
